BEGIN:VCALENDAR
VERSION:2.0
PRODID:-//Public Works Association of British Columbia - ECPv6.15.19//NONSGML v1.0//EN
CALSCALE:GREGORIAN
METHOD:PUBLISH
X-WR-CALNAME:Public Works Association of British Columbia
X-ORIGINAL-URL:https://pwabc.ca
X-WR-CALDESC:Events for Public Works Association of British Columbia
REFRESH-INTERVAL;VALUE=DURATION:PT1H
X-Robots-Tag:noindex
X-PUBLISHED-TTL:PT1H
BEGIN:VTIMEZONE
TZID:America/Vancouver
BEGIN:DAYLIGHT
TZOFFSETFROM:-0800
TZOFFSETTO:-0700
TZNAME:PDT
DTSTART:20250309T100000
END:DAYLIGHT
BEGIN:STANDARD
TZOFFSETFROM:-0700
TZOFFSETTO:-0800
TZNAME:PST
DTSTART:20251102T090000
END:STANDARD
BEGIN:DAYLIGHT
TZOFFSETFROM:-0800
TZOFFSETTO:-0700
TZNAME:PDT
DTSTART:20260308T100000
END:DAYLIGHT
BEGIN:STANDARD
TZOFFSETFROM:-0700
TZOFFSETTO:-0800
TZNAME:PST
DTSTART:20261101T090000
END:STANDARD
BEGIN:DAYLIGHT
TZOFFSETFROM:-0800
TZOFFSETTO:-0700
TZNAME:PDT
DTSTART:20270314T100000
END:DAYLIGHT
BEGIN:STANDARD
TZOFFSETFROM:-0700
TZOFFSETTO:-0800
TZNAME:PST
DTSTART:20271107T090000
END:STANDARD
END:VTIMEZONE
BEGIN:VEVENT
DTSTART;TZID=America/Vancouver:20260511T080000
DTEND;TZID=America/Vancouver:20260512T120000
DTSTAMP:20260423T114208
CREATED:20260422T062203Z
LAST-MODIFIED:20260422T062243Z
UID:6073-1778486400-1778587200@pwabc.ca
SUMMARY:APWA Public Fleet Management Certificate (Virtual 2026)
DESCRIPTION:Course Name: APWA Public Fleet Management Certificate \nDates and Time: Monday\, May 11th & Tuesday\, May 12th\, 2026 – 8am to 12pm PST \nLocation: Virtually via Zoom \nLearn from one of the Canadian experts who is actively involved in the APWA’s fleet programs. This is an eight-hour program designed for both existing fleet managers and new fleet managers (or those who aspire to become fleet managers). The program will provide an overview of the many skills and areas of knowledge fleet managers need to be successful – including organization structures\, communication\, procurement\, purchasing\, finance\, and fleet operations. \nAfter completing this course\, participants will be better able to: \n\nDescribe the role of a fleet manager and determine the benefits of enhanced communication with partners and fleet customers.\nRecall basic finance and technology issues related to fleet management and identify global issues and their impact on fleet management.\nExplain common industry best practices.\n\nThis program will blend the best of live face-to-face interaction with the ease and convenience of online learning. The virtual program will be held over two days for 4 hours per day on Monday\, May 11th & Tuesday\, May 12th 2026 from 8am–12pm both days.  A short quiz will be administered at the end of the second day and a certificate of completion will be delivered to those that pass the quiz successfully. \nREGISTRATION COSTS:  $200 for British Columbia\, Alberta\, Saskatchewan & Manitoba APWA Chapter members\, $250 for non-members. \nLAST DAY TO REGISTER: Monday\, May 4th\, 2026 at 12pm. \n***Joining instructions and course material will be sent out after registration closes. \n\n\n                \n                        \n                            APWA Public Fleet Management Certificate (Virtual 2026)\n                             \n                        \n                        Primary ContactName(Required)\n                            \n                            \n                                                    First\n                                                    \n                                                \n                            \n                            \n                                                            Last\n                                                            \n                                                        \n                            \n                        Email(Required)\n                                \n                                    Enter Email\n                                    \n                                \n                                \n                                    Confirm Email\n                                    \n                                \n                                \n                            Phone(Required)Address(Required)    \n                    \n                         \n                                        Street Address\n                                        \n                                   \n                                        Address Line 2\n                                        \n                                    \n                                    City\n                                    \n                                 \n                                        State / Province / Region\n                                        \n                                      \n                                    ZIP / Postal Code\n                                    \n                                \n                                        Country\n                                        AfghanistanAlbaniaAlgeriaAmerican SamoaAndorraAngolaAnguillaAntarcticaAntigua and BarbudaArgentinaArmeniaArubaAustraliaAustriaAzerbaijanBahamasBahrainBangladeshBarbadosBelarusBelgiumBelizeBeninBermudaBhutanBoliviaBonaire\, Sint Eustatius and SabaBosnia and HerzegovinaBotswanaBouvet IslandBrazilBritish Indian Ocean TerritoryBrunei DarussalamBulgariaBurkina FasoBurundiCabo VerdeCambodiaCameroonCanadaCayman IslandsCentral African RepublicChadChileChinaChristmas IslandCocos IslandsColombiaComorosCongoCongo\, Democratic Republic of theCook IslandsCosta RicaCroatiaCubaCuraçaoCyprusCzechiaCôte d'IvoireDenmarkDjiboutiDominicaDominican RepublicEcuadorEgyptEl SalvadorEquatorial GuineaEritreaEstoniaEswatiniEthiopiaFalkland IslandsFaroe IslandsFijiFinlandFranceFrench GuianaFrench PolynesiaFrench Southern TerritoriesGabonGambiaGeorgiaGermanyGhanaGibraltarGreeceGreenlandGrenadaGuadeloupeGuamGuatemalaGuernseyGuineaGuinea-BissauGuyanaHaitiHeard Island and McDonald IslandsHoly SeeHondurasHong KongHungaryIcelandIndiaIndonesiaIranIraqIrelandIsle of ManIsraelItalyJamaicaJapanJerseyJordanKazakhstanKenyaKiribatiKorea\, Democratic People's Republic ofKorea\, Republic ofKuwaitKyrgyzstanLao People's Democratic RepublicLatviaLebanonLesothoLiberiaLibyaLiechtensteinLithuaniaLuxembourgMacaoMadagascarMalawiMalaysiaMaldivesMaliMaltaMarshall IslandsMartiniqueMauritaniaMauritiusMayotteMexicoMicronesiaMoldovaMonacoMongoliaMontenegroMontserratMoroccoMozambiqueMyanmarNamibiaNauruNepalNetherlandsNew CaledoniaNew ZealandNicaraguaNigerNigeriaNiueNorfolk IslandNorth MacedoniaNorthern Mariana IslandsNorwayOmanPakistanPalauPalestine\, State ofPanamaPapua New GuineaParaguayPeruPhilippinesPitcairnPolandPortugalPuerto RicoQatarRomaniaRussian FederationRwandaRéunionSaint BarthélemySaint Helena\, Ascension and Tristan da CunhaSaint Kitts and NevisSaint LuciaSaint MartinSaint Pierre and MiquelonSaint Vincent and the GrenadinesSamoaSan MarinoSao Tome and PrincipeSaudi ArabiaSenegalSerbiaSeychellesSierra LeoneSingaporeSint MaartenSlovakiaSloveniaSolomon IslandsSomaliaSouth AfricaSouth Georgia and the South Sandwich IslandsSouth SudanSpainSri LankaSudanSurinameSvalbard and Jan MayenSwedenSwitzerlandSyria Arab RepublicTaiwanTajikistanTanzania\, the United Republic ofThailandTimor-LesteTogoTokelauTongaTrinidad and TobagoTunisiaTurkmenistanTurks and Caicos IslandsTuvaluTürkiyeUS Minor Outlying IslandsUgandaUkraineUnited Arab EmiratesUnited KingdomUnited StatesUruguayUzbekistanVanuatuVenezuelaViet NamVirgin Islands\, BritishVirgin Islands\, U.S.Wallis and FutunaWestern SaharaYemenZambiaZimbabweÅland Islands \n                                    \n                    \n                Delegate InformationHow many Member Delegates? Quantity(Required)\n					\n					\n						Price:\n						$ 200.00 CAD\n					\n					\n					 Quantity \n				How many Non-Member Delegates? Quantity(Required)\n					\n					\n						Price:\n						$ 250.00 CAD\n					\n					\n					 Quantity \n				Subtotal\n            \n                $ 0.00 CAD\n                \n            Delegate Information(Required)Please provide the following information for each delegate that will be attending:\nFirst Name\, Last Name\, Position Title\, Email Address\, Province/State of Workplace\nConsent(Required) All delegates are aware that this session may be recorded. By checking this box\, all delegates consent to allow PWABC to use the resulting materials that may include pictures or likenesses of themselves in all forms of media\, in connection with promoting our associations or the public works and safety sectors generally.PaymentGST #123177503RT0001Subtotal\n            \n                $ 0.00 CAD\n                \n            GST\n            \n                $ 0.00 CAD\n                \n            Total\n							\n						Credit Card(Required)\n					\n						Cardholder Name\n					\n					\n						Card Details\n					\n				To complete your payment\, please ensure you have entered the correct quantity under "Job Posting" above. Your job posting will not be approved without payment. Receipt\n								\n								Yes\, I need a receipt\n							Check this box if you require a receipt\, and one will be emailed to you within 5 business days\n          \n            \n            \n            \n            \n            \n            \n            \n            \n            \n            \n            \n            \n            \n        \n                        \n                        \n\n  \n  \n 
URL:https://pwabc.ca/event/apwa-public-fleet-management-certificate-virtual-2026/
LOCATION:Zoom
CATEGORIES:Featured
ATTACH;FMTTYPE=image/jpeg:https://pwabc.ca/wp-content/uploads/2024/04/APWA.jpg
END:VEVENT
BEGIN:VEVENT
DTSTART;TZID=America/Vancouver:20260512T120000
DTEND;TZID=America/Vancouver:20260512T130000
DTSTAMP:20260423T114209
CREATED:20260210T061421Z
LAST-MODIFIED:20260330T232400Z
UID:5989-1778587200-1778590800@pwabc.ca
SUMMARY:Lunch and Learn: Discussion About Encampments (May 12\, 2026)
DESCRIPTION:Join fellow public works professionals for a relaxed\, engaging virtual Lunch & Learn where we can swap stories\, share what’s working\, and learn from each other. These quarterly conversations are all about showing up as a community—teaching\, listening\, connecting\, and helping make our towns stronger and more vibrant. This upcoming session will focus on the realities of homeless encampments and how to navigate them with professionalism and care\, including: relationship‑building with bylaw\, media interactions\, and overall community safety. Come add your voice\, pick up new ideas\, and be part of a supportive network that’s facing these issues together. \n\n                \n                        \n                            Lunch and Learn (May 12\, 2026)\n                             \n                        \n                        Primary ContactName(Required)\n                            \n                            \n                                                    First\n                                                    \n                                                \n                            \n                            \n                                                            Last\n                                                            \n                                                        \n                            \n                        Email(Required)\n                                \n                                    Enter Email\n                                    \n                                \n                                \n                                    Confirm Email\n                                    \n                                \n                                \n                            Phone(Required)Address(Required)    \n                    \n                         \n                                        Street Address\n                                        \n                                   \n                                        Address Line 2\n                                        \n                                    \n                                    City\n                                    \n                                 \n                                        State / Province / Region\n                                        \n                                      \n                                    ZIP / Postal Code\n                                    \n                                \n                                        Country\n                                        AfghanistanAlbaniaAlgeriaAmerican SamoaAndorraAngolaAnguillaAntarcticaAntigua and BarbudaArgentinaArmeniaArubaAustraliaAustriaAzerbaijanBahamasBahrainBangladeshBarbadosBelarusBelgiumBelizeBeninBermudaBhutanBoliviaBonaire\, Sint Eustatius and SabaBosnia and HerzegovinaBotswanaBouvet IslandBrazilBritish Indian Ocean TerritoryBrunei DarussalamBulgariaBurkina FasoBurundiCabo VerdeCambodiaCameroonCanadaCayman IslandsCentral African RepublicChadChileChinaChristmas IslandCocos IslandsColombiaComorosCongoCongo\, Democratic Republic of theCook IslandsCosta RicaCroatiaCubaCuraçaoCyprusCzechiaCôte d'IvoireDenmarkDjiboutiDominicaDominican RepublicEcuadorEgyptEl SalvadorEquatorial GuineaEritreaEstoniaEswatiniEthiopiaFalkland IslandsFaroe IslandsFijiFinlandFranceFrench GuianaFrench PolynesiaFrench Southern TerritoriesGabonGambiaGeorgiaGermanyGhanaGibraltarGreeceGreenlandGrenadaGuadeloupeGuamGuatemalaGuernseyGuineaGuinea-BissauGuyanaHaitiHeard Island and McDonald IslandsHoly SeeHondurasHong KongHungaryIcelandIndiaIndonesiaIranIraqIrelandIsle of ManIsraelItalyJamaicaJapanJerseyJordanKazakhstanKenyaKiribatiKorea\, Democratic People's Republic ofKorea\, Republic ofKuwaitKyrgyzstanLao People's Democratic RepublicLatviaLebanonLesothoLiberiaLibyaLiechtensteinLithuaniaLuxembourgMacaoMadagascarMalawiMalaysiaMaldivesMaliMaltaMarshall IslandsMartiniqueMauritaniaMauritiusMayotteMexicoMicronesiaMoldovaMonacoMongoliaMontenegroMontserratMoroccoMozambiqueMyanmarNamibiaNauruNepalNetherlandsNew CaledoniaNew ZealandNicaraguaNigerNigeriaNiueNorfolk IslandNorth MacedoniaNorthern Mariana IslandsNorwayOmanPakistanPalauPalestine\, State ofPanamaPapua New GuineaParaguayPeruPhilippinesPitcairnPolandPortugalPuerto RicoQatarRomaniaRussian FederationRwandaRéunionSaint BarthélemySaint Helena\, Ascension and Tristan da CunhaSaint Kitts and NevisSaint LuciaSaint MartinSaint Pierre and MiquelonSaint Vincent and the GrenadinesSamoaSan MarinoSao Tome and PrincipeSaudi ArabiaSenegalSerbiaSeychellesSierra LeoneSingaporeSint MaartenSlovakiaSloveniaSolomon IslandsSomaliaSouth AfricaSouth Georgia and the South Sandwich IslandsSouth SudanSpainSri LankaSudanSurinameSvalbard and Jan MayenSwedenSwitzerlandSyria Arab RepublicTaiwanTajikistanTanzania\, the United Republic ofThailandTimor-LesteTogoTokelauTongaTrinidad and TobagoTunisiaTurkmenistanTurks and Caicos IslandsTuvaluTürkiyeUS Minor Outlying IslandsUgandaUkraineUnited Arab EmiratesUnited KingdomUnited StatesUruguayUzbekistanVanuatuVenezuelaViet NamVirgin Islands\, BritishVirgin Islands\, U.S.Wallis and FutunaWestern SaharaYemenZambiaZimbabweÅland Islands \n                                    \n                    \n                Consent(Required) All delegates are aware that this session may be recorded. By checking this box\, all delegates consent to allow PWABC to use the resulting materials that may include pictures or likenesses of themselves in all forms of media\, in connection with promoting our associations or the public works and safety sectors generally.
URL:https://pwabc.ca/event/lunch-and-learn-may-12-2026/
CATEGORIES:Featured
END:VEVENT
END:VCALENDAR